BEGIN:VCALENDAR
VERSION:2.0
PRODID:-//RSC Westfalia 1919 Niedermehnen e.V. - ECPv6.15.20//NONSGML v1.0//EN
CALSCALE:GREGORIAN
METHOD:PUBLISH
X-WR-CALNAME:RSC Westfalia 1919 Niedermehnen e.V.
X-ORIGINAL-URL:https://www.rsc-niedermehnen.de
X-WR-CALDESC:Veranstaltungen für RSC Westfalia 1919 Niedermehnen e.V.
REFRESH-INTERVAL;VALUE=DURATION:PT1H
X-Robots-Tag:noindex
X-PUBLISHED-TTL:PT1H
BEGIN:VTIMEZONE
TZID:Europe/Berlin
BEGIN:DAYLIGHT
TZOFFSETFROM:+0100
TZOFFSETTO:+0200
TZNAME:CEST
DTSTART:20250330T010000
END:DAYLIGHT
BEGIN:STANDARD
TZOFFSETFROM:+0200
TZOFFSETTO:+0100
TZNAME:CET
DTSTART:20251026T010000
END:STANDARD
BEGIN:DAYLIGHT
TZOFFSETFROM:+0100
TZOFFSETTO:+0200
TZNAME:CEST
DTSTART:20260329T010000
END:DAYLIGHT
BEGIN:STANDARD
TZOFFSETFROM:+0200
TZOFFSETTO:+0100
TZNAME:CET
DTSTART:20261025T010000
END:STANDARD
BEGIN:DAYLIGHT
TZOFFSETFROM:+0100
TZOFFSETTO:+0200
TZNAME:CEST
DTSTART:20270328T010000
END:DAYLIGHT
BEGIN:STANDARD
TZOFFSETFROM:+0200
TZOFFSETTO:+0100
TZNAME:CET
DTSTART:20271031T010000
END:STANDARD
END:VTIMEZONE
BEGIN:VEVENT
DTSTART;TZID=Europe/Berlin:20260118T100000
DTEND;TZID=Europe/Berlin:20260118T170000
DTSTAMP:20260422T181025
CREATED:20260112T070339Z
LAST-MODIFIED:20260112T070424Z
UID:8213-1768730400-1768755600@www.rsc-niedermehnen.de
SUMMARY:4. Spieltag U17/U19 in Velbert
DESCRIPTION:Teilnehmenden Mannschaften U19:\n– SC Schiefbahn\n– RSV Leeden\n– RV Velbert \nMannschaften U17: \n– RV Methler\n– RSC Niedermehnen\n– SC Lippstadt\n– RV Velbert\n– RRSV Altena \n 
URL:https://www.rsc-niedermehnen.de/termin/4-spieltag-u17-u19-in-velbert
LOCATION:Grundschule Kastanienallee\, 42549 Velbert\, Kastanienallee 23\, Velbert\, NRW\, 42549
CATEGORIES:Radball,Radsport
END:VEVENT
BEGIN:VEVENT
DTSTART;TZID=Europe/Berlin:20260118T100000
DTEND;TZID=Europe/Berlin:20260118T170000
DTSTAMP:20260422T181025
CREATED:20260112T070902Z
LAST-MODIFIED:20260112T070902Z
UID:8218-1768730400-1768755600@www.rsc-niedermehnen.de
SUMMARY:4. Spieltag U13 in Tecklenburg
DESCRIPTION:Teilnehmende Mannschaften:\n– SG Suderwich\n– RV Methler\n– RRSV Altena\n– RSC Niedermehnen a.K.\n– RSV Leeden
URL:https://www.rsc-niedermehnen.de/termin/4-spieltag-u13-in-tecklenburg
LOCATION:Grundschule Leeden\, Stift 2\, Tecklenburg-Leeden\, NRW\, 49545
CATEGORIES:Radball,Radsport
END:VEVENT
END:VCALENDAR