BEGIN:VCALENDAR
VERSION:2.0
PRODID:-//RSC Westfalia 1919 Niedermehnen e.V. - ECPv6.15.20//NONSGML v1.0//EN
CALSCALE:GREGORIAN
METHOD:PUBLISH
X-ORIGINAL-URL:https://www.rsc-niedermehnen.de
X-WR-CALDESC:Veranstaltungen für RSC Westfalia 1919 Niedermehnen e.V.
REFRESH-INTERVAL;VALUE=DURATION:PT1H
X-Robots-Tag:noindex
X-PUBLISHED-TTL:PT1H
BEGIN:VTIMEZONE
TZID:Europe/Berlin
BEGIN:DAYLIGHT
TZOFFSETFROM:+0100
TZOFFSETTO:+0200
TZNAME:CEST
DTSTART:20250330T010000
END:DAYLIGHT
BEGIN:STANDARD
TZOFFSETFROM:+0200
TZOFFSETTO:+0100
TZNAME:CET
DTSTART:20251026T010000
END:STANDARD
BEGIN:DAYLIGHT
TZOFFSETFROM:+0100
TZOFFSETTO:+0200
TZNAME:CEST
DTSTART:20260329T010000
END:DAYLIGHT
BEGIN:STANDARD
TZOFFSETFROM:+0200
TZOFFSETTO:+0100
TZNAME:CET
DTSTART:20261025T010000
END:STANDARD
BEGIN:DAYLIGHT
TZOFFSETFROM:+0100
TZOFFSETTO:+0200
TZNAME:CEST
DTSTART:20270328T010000
END:DAYLIGHT
BEGIN:STANDARD
TZOFFSETFROM:+0200
TZOFFSETTO:+0100
TZNAME:CET
DTSTART:20271031T010000
END:STANDARD
END:VTIMEZONE
BEGIN:VEVENT
DTSTART;TZID=Europe/Berlin:20260208T100000
DTEND;TZID=Europe/Berlin:20260208T170000
DTSTAMP:20260422T165109
CREATED:20260112T083126Z
LAST-MODIFIED:20260202T160948Z
UID:8225-1770544800-1770570000@www.rsc-niedermehnen.de
SUMMARY:Landesmeisterschaften U19/U17\, U15 und U13 in der Festhalle Levern
DESCRIPTION:Am 8. Februar finden die Landesverbandsmeisterschaften im Radball in der Festhalle Levern statt. \nDie folgenden Mannschaften werden erwartet: \nU19\nRSC Schiefbahn\nRSV Lehden\nRV Velbert \nU17\nRSC Niedermehnen\nSC Lippstadt\nRV Velbert \nU15\nHRSC Köln-Stammheim\nRMSV Düsseldorf\nRSC Niedermehnen\nRSC Schiefbahn 1\nRSC Schiefbahn 2 \nU13\nRV Methler\nSG Suderwich\nRRSV Altena\nRSV Leeden\nRSC Niedermehnen
URL:https://www.rsc-niedermehnen.de/termin/landesmeisterschaften-u19-u17-u15-und-u13-in-der-festhalle-levern
LOCATION:Sport- und Festhalle Levern\, Schröttingshauser Str. 25\, Stemwede-Levern\, NRW\, 32351\, Deutschland
CATEGORIES:Radball,Radsport
ATTACH;FMTTYPE=image/jpeg:https://www.rsc-niedermehnen.de/wp-content/uploads/2026/01/Jugendmannschaften_RSC.jpg
END:VEVENT
END:VCALENDAR